BEGIN:VCALENDAR
VERSION:2.0
PRODID:spatie/icalendar-generator
DESCRIPTION:Veranstaltungen von Rueda de Casino in Potsdam
X-WR-CALDESC:Veranstaltungen von Rueda de Casino in Potsdam
REFRESH-INTERVAL;VALUE=DURATION:PT1440M
X-PUBLISHED-TTL:PT1440M
BEGIN:VTIMEZONE
TZID:Europe/Berlin
BEGIN:STANDARD
DTSTART:20171029T030000Z
TZOFFSETFROM:+0200
TZOFFSETTO:+0100
END:STANDARD
BEGIN:DAYLIGHT
DTSTART:20180325T020000Z
TZOFFSETFROM:+0100
TZOFFSETTO:+0200
END:DAYLIGHT
END:VTIMEZONE
BEGIN:VTIMEZONE
TZID:UTC
BEGIN:STANDARD
DTSTART:20250725T141734Z
TZOFFSETFROM:+0000
TZOFFSETTO:+0000
END:STANDARD
END:VTIMEZONE
BEGIN:VEVENT
UID:2322-39
DTSTAMP:20260421T141734Z
SUMMARY:Rueda Simple Workshop fällt aus
LOCATION:Siam Rudolf-Breitscheid-Strasse 34  Potsdam Brandenburg 14482
ORGANIZER;CN=Christian:MAILTO:service@digital-karl.de
DTSTART;TZID=Europe/Berlin:20180329T193000
DTEND;TZID=Europe/Berlin:20180329T220000
X-ALT-DESC;FMTTYPE=TEXT/HTML:<p>Der Rueda-Workshop fällt 1x aus.</p>\n
CATEGORIES:Feiertage
URL;VALUE=URI:https://rueda-potsdam.de/mc-events/rueda-simple-workshop-fael
 lt-aus/
METHOD:PUBLISH
END:VEVENT
END:VCALENDAR